BEGIN:VCALENDAR
VERSION:2.0
PRODID:-//Presidency School - ECPv6.15.13//NONSGML v1.0//EN
CALSCALE:GREGORIAN
METHOD:PUBLISH
X-WR-CALNAME:Presidency School
X-ORIGINAL-URL:https://presidencyschoolajmer.com
X-WR-CALDESC:Events for Presidency School
REFRESH-INTERVAL;VALUE=DURATION:PT1H
X-Robots-Tag:noindex
X-PUBLISHED-TTL:PT1H
BEGIN:VTIMEZONE
TZID:UTC
BEGIN:STANDARD
TZOFFSETFROM:+0000
TZOFFSETTO:+0000
TZNAME:UTC
DTSTART:20250101T000000
END:STANDARD
END:VTIMEZONE
BEGIN:VEVENT
DTSTART;VALUE=DATE:20260516
DTEND;VALUE=DATE:20260517
DTSTAMP:20260423T160403
CREATED:20260421T085414Z
LAST-MODIFIED:20260421T085414Z
UID:7237-1778889600-1778975999@presidencyschoolajmer.com
SUMMARY:PTM PT–1  (Nur – VIII) 
DESCRIPTION:
URL:https://presidencyschoolajmer.com/event/ptm-pt-1-nur-viii/
END:VEVENT
BEGIN:VEVENT
DTSTART;TZID=UTC:20260517T080000
DTEND;TZID=UTC:20260630T170000
DTSTAMP:20260423T160403
CREATED:20260421T082703Z
LAST-MODIFIED:20260421T082703Z
UID:7191-1779004800-1782838800@presidencyschoolajmer.com
SUMMARY:Holiday Summer Break (Nursery to 8th)
DESCRIPTION:
URL:https://presidencyschoolajmer.com/event/holiday-summer-break-nursery-to-8th/
END:VEVENT
BEGIN:VEVENT
DTSTART;TZID=UTC:20260527T080000
DTEND;TZID=UTC:20260528T170000
DTSTAMP:20260423T160403
CREATED:20260421T083048Z
LAST-MODIFIED:20260421T083048Z
UID:7195-1779868800-1779987600@presidencyschoolajmer.com
SUMMARY:Holiday Eid -al-Adha(Bakrid) Tentative
DESCRIPTION:
URL:https://presidencyschoolajmer.com/event/holiday-eid-al-adhabakrid-tentative/
END:VEVENT
BEGIN:VEVENT
DTSTART;VALUE=DATE:20260530
DTEND;VALUE=DATE:20260531
DTSTAMP:20260423T160403
CREATED:20260421T085514Z
LAST-MODIFIED:20260421T085514Z
UID:7239-1780099200-1780185599@presidencyschoolajmer.com
SUMMARY:PTM PT- 1  ( IX and X\,XII)
DESCRIPTION:
URL:https://presidencyschoolajmer.com/event/ptm-pt-1-ix-and-xxii/
END:VEVENT
BEGIN:VEVENT
DTSTART;TZID=UTC:20260531T080000
DTEND;TZID=UTC:20260630T170000
DTSTAMP:20260423T160403
CREATED:20260421T082847Z
LAST-MODIFIED:20260421T082847Z
UID:7193-1780214400-1782838800@presidencyschoolajmer.com
SUMMARY:Holiday Summer Break (IX to XII)
DESCRIPTION:
URL:https://presidencyschoolajmer.com/event/holiday-summer-break-ix-to-xii/
END:VEVENT
END:VCALENDAR