BEGIN:VCALENDAR
VERSION:2.0
PRODID:-//Presidency School - ECPv6.15.13//NONSGML v1.0//EN
CALSCALE:GREGORIAN
METHOD:PUBLISH
X-ORIGINAL-URL:https://presidencyschoolajmer.com
X-WR-CALDESC:Events for Presidency School
REFRESH-INTERVAL;VALUE=DURATION:PT1H
X-Robots-Tag:noindex
X-PUBLISHED-TTL:PT1H
BEGIN:VTIMEZONE
TZID:UTC
BEGIN:STANDARD
TZOFFSETFROM:+0000
TZOFFSETTO:+0000
TZNAME:UTC
DTSTART:20220101T000000
END:STANDARD
END:VTIMEZONE
BEGIN:VEVENT
DTSTART;VALUE=DATE:20230809
DTEND;VALUE=DATE:20230810
DTSTAMP:20260424T064834
CREATED:20230705T064356Z
LAST-MODIFIED:20230705T064356Z
UID:5857-1691539200-1691625599@presidencyschoolajmer.com
SUMMARY:Holiday-Adivasi Jayanti
DESCRIPTION:Holiday-Adivasi Jayanti
URL:https://presidencyschoolajmer.com/event/holiday-adivasi-jayanti/
END:VEVENT
BEGIN:VEVENT
DTSTART;VALUE=DATE:20230805
DTEND;VALUE=DATE:20230806
DTSTAMP:20260424T064834
CREATED:20230705T090902Z
LAST-MODIFIED:20230705T090902Z
UID:5901-1691193600-1691279999@presidencyschoolajmer.com
SUMMARY:PTM - 2   IX & XI
DESCRIPTION:PTM – 2 IX & XI
URL:https://presidencyschoolajmer.com/event/ptm-2-ix-xi/
END:VEVENT
BEGIN:VEVENT
DTSTART;VALUE=DATE:20230803
DTEND;VALUE=DATE:20230804
DTSTAMP:20260424T064834
CREATED:20230705T090509Z
LAST-MODIFIED:20230705T090631Z
UID:5898-1691020800-1691107199@presidencyschoolajmer.com
SUMMARY:PTM - 2  Grade - Nur - VIII
DESCRIPTION:PTM – 2 Grade – Nur – VIII
URL:https://presidencyschoolajmer.com/event/ptm-2-nur-viii/
END:VEVENT
BEGIN:VEVENT
DTSTART;VALUE=DATE:20230729
DTEND;VALUE=DATE:20230730
DTSTAMP:20260424T064834
CREATED:20230705T065745Z
LAST-MODIFIED:20230705T065745Z
UID:5862-1690588800-1690675199@presidencyschoolajmer.com
SUMMARY:Holiday - Muharram
DESCRIPTION:Holiday – Muharram
URL:https://presidencyschoolajmer.com/event/holiday-muharram/
END:VEVENT
BEGIN:VEVENT
DTSTART;VALUE=DATE:20230708
DTEND;VALUE=DATE:20230709
DTSTAMP:20260424T064834
CREATED:20230705T070330Z
LAST-MODIFIED:20230705T070540Z
UID:5868-1688774400-1688860799@presidencyschoolajmer.com
SUMMARY:School will remain close for students
DESCRIPTION:School will remain close for students
URL:https://presidencyschoolajmer.com/event/holiday-for-students/
END:VEVENT
END:VCALENDAR