BEGIN:VCALENDAR
VERSION:2.0
PRODID:-//Presidency School - ECPv6.15.13//NONSGML v1.0//EN
CALSCALE:GREGORIAN
METHOD:PUBLISH
X-WR-CALNAME:Presidency School
X-ORIGINAL-URL:https://presidencyschoolajmer.com
X-WR-CALDESC:Events for Presidency School
REFRESH-INTERVAL;VALUE=DURATION:PT1H
X-Robots-Tag:noindex
X-PUBLISHED-TTL:PT1H
BEGIN:VTIMEZONE
TZID:UTC
BEGIN:STANDARD
TZOFFSETFROM:+0000
TZOFFSETTO:+0000
TZNAME:UTC
DTSTART:20220101T000000
END:STANDARD
END:VTIMEZONE
BEGIN:VEVENT
DTSTART;VALUE=DATE:20231225
DTEND;VALUE=DATE:20231226
DTSTAMP:20260424T052100
CREATED:20230901T045158Z
LAST-MODIFIED:20230901T045158Z
UID:5987-1703462400-1703548799@presidencyschoolajmer.com
SUMMARY:Holiday- Christmas
DESCRIPTION:Holiday- Christmas
URL:https://presidencyschoolajmer.com/event/holiday-christmas/
END:VEVENT
BEGIN:VEVENT
DTSTART;VALUE=DATE:20231223
DTEND;VALUE=DATE:20231224
DTSTAMP:20260424T052100
CREATED:20231212T102720Z
LAST-MODIFIED:20231212T102720Z
UID:6190-1703289600-1703375999@presidencyschoolajmer.com
SUMMARY:Special Assembly -Christmas Celebration
DESCRIPTION:Special Assembly -Christmas Celebration
URL:https://presidencyschoolajmer.com/event/special-assembly-christmas-celebration/
END:VEVENT
BEGIN:VEVENT
DTSTART;VALUE=DATE:20231218
DTEND;VALUE=DATE:20231230
DTSTAMP:20260424T052100
CREATED:20231212T122759Z
LAST-MODIFIED:20231212T122759Z
UID:6197-1702857600-1703894399@presidencyschoolajmer.com
SUMMARY:PT-2 For Classes I to IX and XI
DESCRIPTION:PT-2 For Classes I to IX and XI
URL:https://presidencyschoolajmer.com/event/pt-2-for-classes-i-to-ix-and-xi/
END:VEVENT
BEGIN:VEVENT
DTSTART;VALUE=DATE:20231216
DTEND;VALUE=DATE:20231230
DTSTAMP:20260424T052100
CREATED:20231212T103058Z
LAST-MODIFIED:20231212T103846Z
UID:6193-1702684800-1703894399@presidencyschoolajmer.com
SUMMARY:Pre-Boards Examinations ( Grade X&XII)
DESCRIPTION:Pre-Boards Examinations ( Grade X&XII)
URL:https://presidencyschoolajmer.com/event/pt2-examinations-grade-i-to-v/
END:VEVENT
BEGIN:VEVENT
DTSTART;VALUE=DATE:20231127
DTEND;VALUE=DATE:20231128
DTSTAMP:20260424T052100
CREATED:20230831T100104Z
LAST-MODIFIED:20230831T100104Z
UID:5985-1701043200-1701129599@presidencyschoolajmer.com
SUMMARY:Holiday Guru Nanak Jayanti
DESCRIPTION:Holiday Guru Nanak Jayanti
URL:https://presidencyschoolajmer.com/event/holiday-guru-nanak-jayanti/
END:VEVENT
BEGIN:VEVENT
DTSTART;VALUE=DATE:20231123
DTEND;VALUE=DATE:20231124
DTSTAMP:20260424T052100
CREATED:20230831T100024Z
LAST-MODIFIED:20230831T100024Z
UID:5983-1700697600-1700783999@presidencyschoolajmer.com
SUMMARY:Holiday Pushkar Fair
DESCRIPTION:Holiday Pushkar Fair
URL:https://presidencyschoolajmer.com/event/holiday-pushkar-fair/
END:VEVENT
BEGIN:VEVENT
DTSTART;VALUE=DATE:20231110
DTEND;VALUE=DATE:20231117
DTSTAMP:20260424T052100
CREATED:20230831T095103Z
LAST-MODIFIED:20230831T095103Z
UID:5981-1699574400-1700179199@presidencyschoolajmer.com
SUMMARY:Diwali Break
DESCRIPTION:Diwali Break
URL:https://presidencyschoolajmer.com/event/diwali-break/
END:VEVENT
BEGIN:VEVENT
DTSTART;VALUE=DATE:20231022
DTEND;VALUE=DATE:20231025
DTSTAMP:20260424T052100
CREATED:20230705T091110Z
LAST-MODIFIED:20231005T071123Z
UID:5903-1697932800-1698191999@presidencyschoolajmer.com
SUMMARY:Dussehra Break
DESCRIPTION:Dussehra Break
URL:https://presidencyschoolajmer.com/event/dashara-break/
END:VEVENT
BEGIN:VEVENT
DTSTART;VALUE=DATE:20231021
DTEND;VALUE=DATE:20231022
DTSTAMP:20260424T052100
CREATED:20231005T070850Z
LAST-MODIFIED:20231005T070917Z
UID:6032-1697846400-1697932799@presidencyschoolajmer.com
SUMMARY:PTM for I to XII
DESCRIPTION:PTM for I to XII
URL:https://presidencyschoolajmer.com/event/ptm-for-nursery-to-ukg/
END:VEVENT
BEGIN:VEVENT
DTSTART;VALUE=DATE:20231015
DTEND;VALUE=DATE:20231016
DTSTAMP:20260424T052100
CREATED:20230705T085804Z
LAST-MODIFIED:20230705T085926Z
UID:5895-1697328000-1697414399@presidencyschoolajmer.com
SUMMARY:Navratri Sthapana
DESCRIPTION:Navratri Sthapana
URL:https://presidencyschoolajmer.com/event/navratrin-sthapana/
END:VEVENT
BEGIN:VEVENT
DTSTART;VALUE=DATE:20231014
DTEND;VALUE=DATE:20231015
DTSTAMP:20260424T052100
CREATED:20231005T071021Z
LAST-MODIFIED:20231005T071021Z
UID:6035-1697241600-1697327999@presidencyschoolajmer.com
SUMMARY:PTM for Nursery To UKG
DESCRIPTION:PTM for Nursery To UKG
URL:https://presidencyschoolajmer.com/event/ptm-for-nursery-to-ukg-2/
END:VEVENT
BEGIN:VEVENT
DTSTART;VALUE=DATE:20231012
DTEND;VALUE=DATE:20231013
DTSTAMP:20260424T052100
CREATED:20230705T085603Z
LAST-MODIFIED:20230705T085603Z
UID:5891-1697068800-1697155199@presidencyschoolajmer.com
SUMMARY:Field Trip - ( Grade NUR-UKG)
DESCRIPTION:Field Trip – ( Grade NUR-UKG)
URL:https://presidencyschoolajmer.com/event/field-trip-grade-nur-ukg/
END:VEVENT
BEGIN:VEVENT
DTSTART;VALUE=DATE:20231007
DTEND;VALUE=DATE:20231008
DTSTAMP:20260424T052100
CREATED:20231005T065833Z
LAST-MODIFIED:20231005T065840Z
UID:6025-1696636800-1696723199@presidencyschoolajmer.com
SUMMARY:Parent on Board for Grade III to V
DESCRIPTION:Parent on Board for Grade III to V
URL:https://presidencyschoolajmer.com/event/parent-on-board-for-grade-iii-to-v/
END:VEVENT
BEGIN:VEVENT
DTSTART;VALUE=DATE:20230928
DTEND;VALUE=DATE:20230929
DTSTAMP:20260424T052100
CREATED:20230705T075420Z
LAST-MODIFIED:20230705T075420Z
UID:5889-1695859200-1695945599@presidencyschoolajmer.com
SUMMARY:Holiday - Id-E-Milad
DESCRIPTION:Holiday – Id-E-Milad
URL:https://presidencyschoolajmer.com/event/holiday-id-e-milad/
END:VEVENT
BEGIN:VEVENT
DTSTART;VALUE=DATE:20230925
DTEND;VALUE=DATE:20230926
DTSTAMP:20260424T052100
CREATED:20230705T075018Z
LAST-MODIFIED:20230705T075018Z
UID:5885-1695600000-1695686399@presidencyschoolajmer.com
SUMMARY:Ramdev Jayanti
DESCRIPTION:Ramdev Jayanti
URL:https://presidencyschoolajmer.com/event/ramdev-jayanti/
END:VEVENT
BEGIN:VEVENT
DTSTART;VALUE=DATE:20230922
DTEND;VALUE=DATE:20231010
DTSTAMP:20260424T052100
CREATED:20230705T075216Z
LAST-MODIFIED:20230821T080123Z
UID:5887-1695340800-1696895999@presidencyschoolajmer.com
SUMMARY:Mid -Term Examination  ( Grade NUR-UKG)
DESCRIPTION:Mid -Term Examination ( Grade NUR-UKG)
URL:https://presidencyschoolajmer.com/event/mid-term-examination-grade-nur-ukg/
END:VEVENT
BEGIN:VEVENT
DTSTART;VALUE=DATE:20230907
DTEND;VALUE=DATE:20230908
DTSTAMP:20260424T052100
CREATED:20230705T073514Z
LAST-MODIFIED:20230705T073532Z
UID:5882-1694044800-1694131199@presidencyschoolajmer.com
SUMMARY:Holiday - Janmashtami
DESCRIPTION:Holiday – Janmashtami
URL:https://presidencyschoolajmer.com/event/holiday-jjanmashtami/
END:VEVENT
BEGIN:VEVENT
DTSTART;VALUE=DATE:20230905
DTEND;VALUE=DATE:20230906
DTSTAMP:20260424T052100
CREATED:20230705T073157Z
LAST-MODIFIED:20230705T073157Z
UID:5880-1693872000-1693958399@presidencyschoolajmer.com
SUMMARY:Teachers Day
DESCRIPTION:Teachers Day
URL:https://presidencyschoolajmer.com/event/teachers-day/
END:VEVENT
BEGIN:VEVENT
DTSTART;VALUE=DATE:20230830
DTEND;VALUE=DATE:20230831
DTSTAMP:20260424T052100
CREATED:20230705T071425Z
LAST-MODIFIED:20230705T071425Z
UID:5878-1693353600-1693439999@presidencyschoolajmer.com
SUMMARY:Holiday - Raksha Bandhan
DESCRIPTION:Holiday – Raksha Bandhan
URL:https://presidencyschoolajmer.com/event/holiday-raksha-bandhan/
END:VEVENT
BEGIN:VEVENT
DTSTART;VALUE=DATE:20230829
DTEND;VALUE=DATE:20230830
DTSTAMP:20260424T052100
CREATED:20230705T071325Z
LAST-MODIFIED:20230705T071325Z
UID:5876-1693267200-1693353599@presidencyschoolajmer.com
SUMMARY:Picnic - Grade NUR-UKG
DESCRIPTION:Picnic – Grade NUR-UKG
URL:https://presidencyschoolajmer.com/event/picnic-grade-nur-ukg/
END:VEVENT
BEGIN:VEVENT
DTSTART;VALUE=DATE:20230825
DTEND;VALUE=DATE:20230826
DTSTAMP:20260424T052100
CREATED:20230705T071048Z
LAST-MODIFIED:20230705T071048Z
UID:5874-1692921600-1693007999@presidencyschoolajmer.com
SUMMARY:Grandparents Day
DESCRIPTION:Grandparents Day
URL:https://presidencyschoolajmer.com/event/grandparents-day/
END:VEVENT
BEGIN:VEVENT
DTSTART;VALUE=DATE:20230815
DTEND;VALUE=DATE:20230816
DTSTAMP:20260424T052100
CREATED:20230705T070937Z
LAST-MODIFIED:20230705T070937Z
UID:5872-1692057600-1692143999@presidencyschoolajmer.com
SUMMARY:Independence Day
DESCRIPTION:Independence Day
URL:https://presidencyschoolajmer.com/event/independence-day/
END:VEVENT
BEGIN:VEVENT
DTSTART;VALUE=DATE:20230810
DTEND;VALUE=DATE:20230811
DTSTAMP:20260424T052100
CREATED:20230705T065903Z
LAST-MODIFIED:20230705T065903Z
UID:5864-1691625600-1691711999@presidencyschoolajmer.com
SUMMARY:World Loin Day
DESCRIPTION:World Loin Day
URL:https://presidencyschoolajmer.com/event/world-loin-day/
END:VEVENT
BEGIN:VEVENT
DTSTART;VALUE=DATE:20230809
DTEND;VALUE=DATE:20230810
DTSTAMP:20260424T052100
CREATED:20230705T064356Z
LAST-MODIFIED:20230705T064356Z
UID:5857-1691539200-1691625599@presidencyschoolajmer.com
SUMMARY:Holiday-Adivasi Jayanti
DESCRIPTION:Holiday-Adivasi Jayanti
URL:https://presidencyschoolajmer.com/event/holiday-adivasi-jayanti/
END:VEVENT
BEGIN:VEVENT
DTSTART;VALUE=DATE:20230805
DTEND;VALUE=DATE:20230806
DTSTAMP:20260424T052100
CREATED:20230705T090902Z
LAST-MODIFIED:20230705T090902Z
UID:5901-1691193600-1691279999@presidencyschoolajmer.com
SUMMARY:PTM - 2   IX & XI
DESCRIPTION:PTM – 2 IX & XI
URL:https://presidencyschoolajmer.com/event/ptm-2-ix-xi/
END:VEVENT
BEGIN:VEVENT
DTSTART;VALUE=DATE:20230803
DTEND;VALUE=DATE:20230804
DTSTAMP:20260424T052100
CREATED:20230705T090509Z
LAST-MODIFIED:20230705T090631Z
UID:5898-1691020800-1691107199@presidencyschoolajmer.com
SUMMARY:PTM - 2  Grade - Nur - VIII
DESCRIPTION:PTM – 2 Grade – Nur – VIII
URL:https://presidencyschoolajmer.com/event/ptm-2-nur-viii/
END:VEVENT
BEGIN:VEVENT
DTSTART;VALUE=DATE:20230729
DTEND;VALUE=DATE:20230730
DTSTAMP:20260424T052100
CREATED:20230705T065745Z
LAST-MODIFIED:20230705T065745Z
UID:5862-1690588800-1690675199@presidencyschoolajmer.com
SUMMARY:Holiday - Muharram
DESCRIPTION:Holiday – Muharram
URL:https://presidencyschoolajmer.com/event/holiday-muharram/
END:VEVENT
BEGIN:VEVENT
DTSTART;VALUE=DATE:20230708
DTEND;VALUE=DATE:20230709
DTSTAMP:20260424T052100
CREATED:20230705T070330Z
LAST-MODIFIED:20230705T070540Z
UID:5868-1688774400-1688860799@presidencyschoolajmer.com
SUMMARY:School will remain close for students
DESCRIPTION:School will remain close for students
URL:https://presidencyschoolajmer.com/event/holiday-for-students/
END:VEVENT
END:VCALENDAR