BEGIN:VCALENDAR
VERSION:2.0
PRODID:-//Presidency School - ECPv6.15.13//NONSGML v1.0//EN
CALSCALE:GREGORIAN
METHOD:PUBLISH
X-WR-CALNAME:Presidency School
X-ORIGINAL-URL:https://presidencyschoolajmer.com
X-WR-CALDESC:Events for Presidency School
REFRESH-INTERVAL;VALUE=DURATION:PT1H
X-Robots-Tag:noindex
X-PUBLISHED-TTL:PT1H
BEGIN:VTIMEZONE
TZID:UTC
BEGIN:STANDARD
TZOFFSETFROM:+0000
TZOFFSETTO:+0000
TZNAME:UTC
DTSTART:20220101T000000
END:STANDARD
END:VTIMEZONE
BEGIN:VEVENT
DTSTART;VALUE=DATE:20240409
DTEND;VALUE=DATE:20240410
DTSTAMP:20260424T062743
CREATED:20240402T054000Z
LAST-MODIFIED:20240402T054058Z
UID:6323-1712620800-1712707199@presidencyschoolajmer.com
SUMMARY:Holiday Chetichand/Navratri Sathapana
DESCRIPTION:Holiday Chetichand/Navratri Sathapana
URL:https://presidencyschoolajmer.com/event/holiday-chetichand-navratri-sathapana/
END:VEVENT
BEGIN:VEVENT
DTSTART;VALUE=DATE:20240404
DTEND;VALUE=DATE:20240405
DTSTAMP:20260424T062743
CREATED:20231226T063953Z
LAST-MODIFIED:20231226T063953Z
UID:6245-1712188800-1712275199@presidencyschoolajmer.com
SUMMARY:SCHOOL REOPEN FOR NUR TO XII
DESCRIPTION:SCHOOL REOPEN FOR NUR TO XII
URL:https://presidencyschoolajmer.com/event/school-reopen-for-nur-to-xii/
END:VEVENT
BEGIN:VEVENT
DTSTART;VALUE=DATE:20240330
DTEND;VALUE=DATE:20240331
DTSTAMP:20260424T062743
CREATED:20231226T062136Z
LAST-MODIFIED:20231226T062136Z
UID:6239-1711756800-1711843199@presidencyschoolajmer.com
SUMMARY:Result Declaration Nur- XII
DESCRIPTION:Result Declaration Nur- XII
URL:https://presidencyschoolajmer.com/event/result-declaration-nur-xii/
END:VEVENT
BEGIN:VEVENT
DTSTART;VALUE=DATE:20240329
DTEND;VALUE=DATE:20240330
DTSTAMP:20260424T062743
CREATED:20231226T061856Z
LAST-MODIFIED:20231226T061856Z
UID:6235-1711670400-1711756799@presidencyschoolajmer.com
SUMMARY:holiday Good friday
DESCRIPTION:holiday Good friday
URL:https://presidencyschoolajmer.com/event/holiday-good-friday/
END:VEVENT
BEGIN:VEVENT
DTSTART;VALUE=DATE:20240324
DTEND;VALUE=DATE:20240326
DTSTAMP:20260424T062743
CREATED:20231226T061811Z
LAST-MODIFIED:20231226T061811Z
UID:6233-1711238400-1711411199@presidencyschoolajmer.com
SUMMARY:holiday Holi Break
DESCRIPTION:holiday Holi Break
URL:https://presidencyschoolajmer.com/event/holiday-holi-break/
END:VEVENT
BEGIN:VEVENT
DTSTART;VALUE=DATE:20240308
DTEND;VALUE=DATE:20240309
DTSTAMP:20260424T062743
CREATED:20231226T061706Z
LAST-MODIFIED:20231226T061706Z
UID:6231-1709856000-1709942399@presidencyschoolajmer.com
SUMMARY:Holiday Mahashivratri
DESCRIPTION:Holiday Mahashivratri
URL:https://presidencyschoolajmer.com/event/holiday-mahashivratri/
END:VEVENT
BEGIN:VEVENT
DTSTART;VALUE=DATE:20240302
DTEND;VALUE=DATE:20240319
DTSTAMP:20260424T062743
CREATED:20231226T061535Z
LAST-MODIFIED:20231226T061535Z
UID:6229-1709337600-1710806399@presidencyschoolajmer.com
SUMMARY:End Term Examination Classes Nur. to IX & XI
DESCRIPTION:End Term Examination Classes Nur. to IX & XI
URL:https://presidencyschoolajmer.com/event/end-term-examination-classes-nur-to-ix-xi/
END:VEVENT
BEGIN:VEVENT
DTSTART;VALUE=DATE:20240223
DTEND;VALUE=DATE:20240224
DTSTAMP:20260424T062743
CREATED:20231227T073135Z
LAST-MODIFIED:20231227T101629Z
UID:6263-1708646400-1708732799@presidencyschoolajmer.com
SUMMARY:Orals Examinations (NUR. to V)
DESCRIPTION:Orals Examinations (NUR. to V)
URL:https://presidencyschoolajmer.com/event/orals-nur-to-v-2/
END:VEVENT
BEGIN:VEVENT
DTSTART;VALUE=DATE:20240221
DTEND;VALUE=DATE:20240222
DTSTAMP:20260424T062743
CREATED:20240209T041357Z
LAST-MODIFIED:20240209T041357Z
UID:6302-1708473600-1708559999@presidencyschoolajmer.com
SUMMARY:I to V International Mother Tongue Day III to V Robotics VI to IX\, XI Tutorials/ Robotics
DESCRIPTION:I to V International Mother Tongue Day III to V Robotics VI to IX\, XI Tutorials/ Robotics
URL:https://presidencyschoolajmer.com/event/i-to-v-international-mother-tongue-day-iii-to-v-robotics-vi-to-ix-xi-tutorials-robotics/
END:VEVENT
BEGIN:VEVENT
DTSTART;VALUE=DATE:20240220
DTEND;VALUE=DATE:20240221
DTSTAMP:20260424T062743
CREATED:20240209T041320Z
LAST-MODIFIED:20240209T041320Z
UID:6300-1708387200-1708473599@presidencyschoolajmer.com
SUMMARY:Robotics Grade III to V & VI to IX\, XI Tutorials/ Robotics
DESCRIPTION:Robotics Grade III to V & VI to IX\, XI Tutorials/ Robotics
URL:https://presidencyschoolajmer.com/event/robotics-grade-iii-to-v-vi-to-ix-xi-tutorials-robotics/
END:VEVENT
BEGIN:VEVENT
DTSTART;VALUE=DATE:20240217
DTEND;VALUE=DATE:20240218
DTSTAMP:20260424T062743
CREATED:20240209T041519Z
LAST-MODIFIED:20240209T041519Z
UID:6304-1708128000-1708214399@presidencyschoolajmer.com
SUMMARY:Pre Primary Annual Function (All branches)
DESCRIPTION:Pre Primary Annual Function (All branches)
URL:https://presidencyschoolajmer.com/event/pre-primary-annual-function-all-branches/
END:VEVENT
BEGIN:VEVENT
DTSTART;VALUE=DATE:20240215
DTEND;VALUE=DATE:20240217
DTSTAMP:20260424T062743
CREATED:20231227T073629Z
LAST-MODIFIED:20231227T073629Z
UID:6267-1707955200-1708127999@presidencyschoolajmer.com
SUMMARY:Robotics (III to IX & XI)
DESCRIPTION:Robotics (III to IX & XI)
URL:https://presidencyschoolajmer.com/event/robotics-iii-to-ix-xi-2/
END:VEVENT
BEGIN:VEVENT
DTSTART;VALUE=DATE:20240214
DTEND;VALUE=DATE:20240215
DTSTAMP:20260424T062743
CREATED:20231227T072852Z
LAST-MODIFIED:20231227T072852Z
UID:6260-1707868800-1707955199@presidencyschoolajmer.com
SUMMARY:Puppet Show (NUR. to U|KG.)
DESCRIPTION:Puppet Show (NUR. to U|KG.)
URL:https://presidencyschoolajmer.com/event/puppet-show-nur-to-ukg/
END:VEVENT
BEGIN:VEVENT
DTSTART;VALUE=DATE:20240210
DTEND;VALUE=DATE:20240211
DTSTAMP:20260424T062743
CREATED:20240209T041059Z
LAST-MODIFIED:20240209T041059Z
UID:6298-1707523200-1707609599@presidencyschoolajmer.com
SUMMARY:Nature Trekking Grade VI to IX & XI
DESCRIPTION:Nature Trekking Grade VI to IX & XI
URL:https://presidencyschoolajmer.com/event/nature-trekking-grade-vi-to-ix-xi/
END:VEVENT
BEGIN:VEVENT
DTSTART;VALUE=DATE:20240207
DTEND;VALUE=DATE:20240208
DTSTAMP:20260424T062743
CREATED:20231227T072801Z
LAST-MODIFIED:20231227T072927Z
UID:6258-1707264000-1707350399@presidencyschoolajmer.com
SUMMARY:Hygiene (Role play with tools) NUR. to UKG
DESCRIPTION:Hygiene (Role play with tools) NUR. to UKG
URL:https://presidencyschoolajmer.com/event/hygiene-role-play-with-tools/
END:VEVENT
BEGIN:VEVENT
DTSTART;VALUE=DATE:20240205
DTEND;VALUE=DATE:20240207
DTSTAMP:20260424T062743
CREATED:20231227T073405Z
LAST-MODIFIED:20231227T073405Z
UID:6265-1707091200-1707263999@presidencyschoolajmer.com
SUMMARY:Robotics (III to IX & XI)
DESCRIPTION:Robotics (III to IX & XI)
URL:https://presidencyschoolajmer.com/event/robotics-iii-to-ix-xi/
END:VEVENT
BEGIN:VEVENT
DTSTART;VALUE=DATE:20240131
DTEND;VALUE=DATE:20240201
DTSTAMP:20260424T062743
CREATED:20231227T101018Z
LAST-MODIFIED:20231227T101018Z
UID:6279-1706659200-1706745599@presidencyschoolajmer.com
SUMMARY:Be A Scientist (III to VIII)
DESCRIPTION:Be A Scientist (III to VIII)
URL:https://presidencyschoolajmer.com/event/be-a-scientist-iii-to-viii/
END:VEVENT
BEGIN:VEVENT
DTSTART;VALUE=DATE:20240130
DTEND;VALUE=DATE:20240131
DTSTAMP:20260424T062743
CREATED:20231227T072537Z
LAST-MODIFIED:20231227T072537Z
UID:6256-1706572800-1706659199@presidencyschoolajmer.com
SUMMARY:Robotics (VI to IX)
DESCRIPTION:Robotics (VI to IX)
URL:https://presidencyschoolajmer.com/event/robotics-vi-to-ix/
END:VEVENT
BEGIN:VEVENT
DTSTART;VALUE=DATE:20240129
DTEND;VALUE=DATE:20240130
DTSTAMP:20260424T062743
CREATED:20231226T055911Z
LAST-MODIFIED:20231227T072414Z
UID:6226-1706486400-1706572799@presidencyschoolajmer.com
SUMMARY:Robotics (III to V)
DESCRIPTION:Robotics (III to V)
URL:https://presidencyschoolajmer.com/event/orals-nur-to-v/
END:VEVENT
BEGIN:VEVENT
DTSTART;VALUE=DATE:20240128
DTEND;VALUE=DATE:20240129
DTSTAMP:20260424T062743
CREATED:20231226T054909Z
LAST-MODIFIED:20231227T080147Z
UID:6223-1706400000-1706486399@presidencyschoolajmer.com
SUMMARY:Holiday Dev Narayan Jayanti
DESCRIPTION:Holiday Dev Narayan Jayanti Holiday
URL:https://presidencyschoolajmer.com/event/holiday-dev-narayan-jayanti-holiday/
END:VEVENT
BEGIN:VEVENT
DTSTART;VALUE=DATE:20240126
DTEND;VALUE=DATE:20240127
DTSTAMP:20260424T062743
CREATED:20231226T054825Z
LAST-MODIFIED:20231227T071739Z
UID:6221-1706227200-1706313599@presidencyschoolajmer.com
SUMMARY:ANNUAL SPORTS DAY (NUR. to XII)
DESCRIPTION:ANNUAL SPORTS DAY (NUR. to XII)
URL:https://presidencyschoolajmer.com/event/sports-day-vi-xii/
END:VEVENT
BEGIN:VEVENT
DTSTART;VALUE=DATE:20240119
DTEND;VALUE=DATE:20240120
DTSTAMP:20260424T062743
CREATED:20231227T070002Z
LAST-MODIFIED:20231227T070002Z
UID:6248-1705622400-1705708799@presidencyschoolajmer.com
SUMMARY:Holiday URS Fair
DESCRIPTION:Holiday URS Fair
URL:https://presidencyschoolajmer.com/event/holiday-urs-fair/
END:VEVENT
BEGIN:VEVENT
DTSTART;VALUE=DATE:20240117
DTEND;VALUE=DATE:20240118
DTSTAMP:20260424T062743
CREATED:20231226T054652Z
LAST-MODIFIED:20231226T054652Z
UID:6217-1705449600-1705535999@presidencyschoolajmer.com
SUMMARY:Holiday Guru Govind Singh Jayanti
DESCRIPTION:Holiday Guru Govind Singh Jayanti
URL:https://presidencyschoolajmer.com/event/holiday-guru-govind-singh-jayanti/
END:VEVENT
BEGIN:VEVENT
DTSTART;VALUE=DATE:20240113
DTEND;VALUE=DATE:20240114
DTSTAMP:20260424T062743
CREATED:20231226T054443Z
LAST-MODIFIED:20231227T065832Z
UID:6214-1705104000-1705190399@presidencyschoolajmer.com
SUMMARY:PTM for NUR. to XII
DESCRIPTION:PTM for NUR. to XII
URL:https://presidencyschoolajmer.com/event/ptm/
END:VEVENT
BEGIN:VEVENT
DTSTART;VALUE=DATE:20240112
DTEND;VALUE=DATE:20240113
DTSTAMP:20260424T062743
CREATED:20231227T075951Z
LAST-MODIFIED:20231227T075951Z
UID:6271-1705017600-1705103999@presidencyschoolajmer.com
SUMMARY:Robotics (VI to IX)
DESCRIPTION:Robotics (VI to IX)
URL:https://presidencyschoolajmer.com/event/robotics-vi-to-ix-2/
END:VEVENT
BEGIN:VEVENT
DTSTART;VALUE=DATE:20240111
DTEND;VALUE=DATE:20240112
DTSTAMP:20260424T062743
CREATED:20231227T075907Z
LAST-MODIFIED:20231227T075907Z
UID:6269-1704931200-1705017599@presidencyschoolajmer.com
SUMMARY:Robotics (III to V)
DESCRIPTION:Robotics (III to V)
URL:https://presidencyschoolajmer.com/event/robotics-iii-to-v/
END:VEVENT
BEGIN:VEVENT
DTSTART;VALUE=DATE:20240108
DTEND;VALUE=DATE:20240109
DTSTAMP:20260424T062743
CREATED:20231226T054121Z
LAST-MODIFIED:20231226T054121Z
UID:6212-1704672000-1704758399@presidencyschoolajmer.com
SUMMARY:School reopen after winter break
DESCRIPTION:School reopen after winter break
URL:https://presidencyschoolajmer.com/event/school-reopen-after-winter-break/
END:VEVENT
BEGIN:VEVENT
DTSTART;VALUE=DATE:20231230
DTEND;VALUE=DATE:20240108
DTSTAMP:20260424T062743
CREATED:20230901T045311Z
LAST-MODIFIED:20231212T101825Z
UID:5989-1703894400-1704671999@presidencyschoolajmer.com
SUMMARY:Holidays - Winter Break
DESCRIPTION:Holidays – Winter Break
URL:https://presidencyschoolajmer.com/event/holidays-winter-break-excursion/
END:VEVENT
BEGIN:VEVENT
DTSTART;VALUE=DATE:20231225
DTEND;VALUE=DATE:20231226
DTSTAMP:20260424T062743
CREATED:20230901T045158Z
LAST-MODIFIED:20230901T045158Z
UID:5987-1703462400-1703548799@presidencyschoolajmer.com
SUMMARY:Holiday- Christmas
DESCRIPTION:Holiday- Christmas
URL:https://presidencyschoolajmer.com/event/holiday-christmas/
END:VEVENT
BEGIN:VEVENT
DTSTART;VALUE=DATE:20231223
DTEND;VALUE=DATE:20231224
DTSTAMP:20260424T062743
CREATED:20231212T102720Z
LAST-MODIFIED:20231212T102720Z
UID:6190-1703289600-1703375999@presidencyschoolajmer.com
SUMMARY:Special Assembly -Christmas Celebration
DESCRIPTION:Special Assembly -Christmas Celebration
URL:https://presidencyschoolajmer.com/event/special-assembly-christmas-celebration/
END:VEVENT
END:VCALENDAR