BEGIN:VCALENDAR
VERSION:2.0
PRODID:-//Presidency School - ECPv6.15.13//NONSGML v1.0//EN
CALSCALE:GREGORIAN
METHOD:PUBLISH
X-ORIGINAL-URL:https://presidencyschoolajmer.com
X-WR-CALDESC:Events for Presidency School
REFRESH-INTERVAL;VALUE=DURATION:PT1H
X-Robots-Tag:noindex
X-PUBLISHED-TTL:PT1H
BEGIN:VTIMEZONE
TZID:UTC
BEGIN:STANDARD
TZOFFSETFROM:+0000
TZOFFSETTO:+0000
TZNAME:UTC
DTSTART:20250101T000000
END:STANDARD
END:VTIMEZONE
BEGIN:VEVENT
DTSTART;TZID=UTC:20261230T080000
DTEND;TZID=UTC:20270106T170000
DTSTAMP:20260424T001641
CREATED:20260421T084358Z
LAST-MODIFIED:20260421T084358Z
UID:7223-1798617600-1799254800@presidencyschoolajmer.com
SUMMARY:Holiday Winter Break
DESCRIPTION:
URL:https://presidencyschoolajmer.com/event/holiday-winter-break-2/
END:VEVENT
BEGIN:VEVENT
DTSTART;VALUE=DATE:20270109
DTEND;VALUE=DATE:20270110
DTSTAMP:20260424T001641
CREATED:20260421T090006Z
LAST-MODIFIED:20260421T090006Z
UID:7249-1799452800-1799539199@presidencyschoolajmer.com
SUMMARY:PTM PT-2  (I to IX & XI\,Nursery to UKG))
DESCRIPTION:
URL:https://presidencyschoolajmer.com/event/ptm-pt-2-i-to-ix-xinursery-to-ukg/
END:VEVENT
BEGIN:VEVENT
DTSTART;VALUE=DATE:20270109
DTEND;VALUE=DATE:20270110
DTSTAMP:20260424T001641
CREATED:20260421T090113Z
LAST-MODIFIED:20260421T090113Z
UID:7251-1799452800-1799539199@presidencyschoolajmer.com
SUMMARY:PTM Pre-Boards(X to XII)
DESCRIPTION:
URL:https://presidencyschoolajmer.com/event/ptm-pre-boardsx-to-xii/
END:VEVENT
BEGIN:VEVENT
DTSTART;VALUE=DATE:20270115
DTEND;VALUE=DATE:20270116
DTSTAMP:20260424T001641
CREATED:20260421T084444Z
LAST-MODIFIED:20260421T084444Z
UID:7225-1799971200-1800057599@presidencyschoolajmer.com
SUMMARY:Holiday Guru Gobind Singh Jayanti
DESCRIPTION:
URL:https://presidencyschoolajmer.com/event/holiday-guru-gobind-singh-jayanti-2/
END:VEVENT
BEGIN:VEVENT
DTSTART;VALUE=DATE:20270126
DTEND;VALUE=DATE:20270127
DTSTAMP:20260424T001641
CREATED:20260421T094425Z
LAST-MODIFIED:20260421T094425Z
UID:7261-1800921600-1801007999@presidencyschoolajmer.com
SUMMARY:Republic Day
DESCRIPTION:
URL:https://presidencyschoolajmer.com/event/republic-day/
END:VEVENT
BEGIN:VEVENT
DTSTART;VALUE=DATE:20270213
DTEND;VALUE=DATE:20270214
DTSTAMP:20260424T001641
CREATED:20260421T084535Z
LAST-MODIFIED:20260421T084535Z
UID:7227-1802476800-1802563199@presidencyschoolajmer.com
SUMMARY:Holiday Devnarayan Jayanti
DESCRIPTION:
URL:https://presidencyschoolajmer.com/event/holiday-devnarayan-jayanti/
END:VEVENT
BEGIN:VEVENT
DTSTART;VALUE=DATE:20270305
DTEND;VALUE=DATE:20270306
DTSTAMP:20260424T001641
CREATED:20260421T090222Z
LAST-MODIFIED:20260421T090222Z
UID:7253-1804204800-1804291199@presidencyschoolajmer.com
SUMMARY:PTM End Term(IX to XII)
DESCRIPTION:
URL:https://presidencyschoolajmer.com/event/ptm-end-termix-to-xii/
END:VEVENT
BEGIN:VEVENT
DTSTART;VALUE=DATE:20270306
DTEND;VALUE=DATE:20270307
DTSTAMP:20260424T001641
CREATED:20260421T084652Z
LAST-MODIFIED:20260421T084652Z
UID:7229-1804291200-1804377599@presidencyschoolajmer.com
SUMMARY:Holiday Mahashivratri
DESCRIPTION:
URL:https://presidencyschoolajmer.com/event/holiday-mahashivratri-3/
END:VEVENT
BEGIN:VEVENT
DTSTART;VALUE=DATE:20270310
DTEND;VALUE=DATE:20270311
DTSTAMP:20260424T001641
CREATED:20260421T084749Z
LAST-MODIFIED:20260421T084749Z
UID:7231-1804636800-1804723199@presidencyschoolajmer.com
SUMMARY:Holiday Eid-ul- Fitr
DESCRIPTION:
URL:https://presidencyschoolajmer.com/event/holiday-eid-ul-fitr/
END:VEVENT
BEGIN:VEVENT
DTSTART;TZID=UTC:20270321T080000
DTEND;TZID=UTC:20270322T170000
DTSTAMP:20260424T001641
CREATED:20260421T084838Z
LAST-MODIFIED:20260421T084838Z
UID:7233-1805616000-1805734800@presidencyschoolajmer.com
SUMMARY:Holiday Holi Break
DESCRIPTION:
URL:https://presidencyschoolajmer.com/event/holiday-holi-break-2/
END:VEVENT
BEGIN:VEVENT
DTSTART;VALUE=DATE:20270325
DTEND;VALUE=DATE:20270326
DTSTAMP:20260424T001641
CREATED:20260421T090436Z
LAST-MODIFIED:20260421T090436Z
UID:7255-1805932800-1806019199@presidencyschoolajmer.com
SUMMARY:Graduation Day UKG And V
DESCRIPTION:
URL:https://presidencyschoolajmer.com/event/graduation-day-ukg-and-v/
END:VEVENT
BEGIN:VEVENT
DTSTART;VALUE=DATE:20270326
DTEND;VALUE=DATE:20270327
DTSTAMP:20260424T001641
CREATED:20260421T084925Z
LAST-MODIFIED:20260421T084925Z
UID:7235-1806019200-1806105599@presidencyschoolajmer.com
SUMMARY:Holiday Good Friday
DESCRIPTION:
URL:https://presidencyschoolajmer.com/event/holiday-good-friday-3/
END:VEVENT
BEGIN:VEVENT
DTSTART;VALUE=DATE:20270327
DTEND;VALUE=DATE:20270328
DTSTAMP:20260424T001641
CREATED:20260421T090655Z
LAST-MODIFIED:20260422T041443Z
UID:7257-1806105600-1806191999@presidencyschoolajmer.com
SUMMARY:PTM End Term(Nursery\,LKG And 1- to IV\,VI to VIII)
DESCRIPTION:
URL:https://presidencyschoolajmer.com/event/ptm-end-termnurserylkg-and-1-to-ivvi-to-viii/
END:VEVENT
END:VCALENDAR