BEGIN:VCALENDAR
VERSION:2.0
PRODID:-//Presidency School - ECPv6.15.13//NONSGML v1.0//EN
CALSCALE:GREGORIAN
METHOD:PUBLISH
X-WR-CALNAME:Presidency School
X-ORIGINAL-URL:https://presidencyschoolajmer.com
X-WR-CALDESC:Events for Presidency School
REFRESH-INTERVAL;VALUE=DURATION:PT1H
X-Robots-Tag:noindex
X-PUBLISHED-TTL:PT1H
BEGIN:VTIMEZONE
TZID:UTC
BEGIN:STANDARD
TZOFFSETFROM:+0000
TZOFFSETTO:+0000
TZNAME:UTC
DTSTART:20230101T000000
END:STANDARD
END:VTIMEZONE
BEGIN:VEVENT
DTSTART;VALUE=DATE:20240717
DTEND;VALUE=DATE:20240718
DTSTAMP:20260423T225346
CREATED:20240415T063521Z
LAST-MODIFIED:20240415T063749Z
UID:6393-1721174400-1721260799@presidencyschoolajmer.com
SUMMARY:Holiday Muharram
DESCRIPTION:Muharram
URL:https://presidencyschoolajmer.com/event/holiday-muharram-2/
END:VEVENT
BEGIN:VEVENT
DTSTART;TZID=UTC:20240716T000000
DTEND;TZID=UTC:20240724T000000
DTSTAMP:20260423T225346
CREATED:20240402T055923Z
LAST-MODIFIED:20240402T055923Z
UID:6347-1721088000-1721779200@presidencyschoolajmer.com
SUMMARY:PT-1 (I-IX & XI)
DESCRIPTION:PT-1 (I-IX & XI)
URL:https://presidencyschoolajmer.com/event/pt-1-i-ix-xi/
END:VEVENT
BEGIN:VEVENT
DTSTART;VALUE=DATE:20240701
DTEND;VALUE=DATE:20240702
DTSTAMP:20260423T225346
CREATED:20240402T060629Z
LAST-MODIFIED:20240402T060629Z
UID:6351-1719792000-1719878399@presidencyschoolajmer.com
SUMMARY:School Opens After Summer Break ( From Nursery to XII)
DESCRIPTION:School Opens After Summer Break ( From Nursery to XII)
URL:https://presidencyschoolajmer.com/event/school-opens-after-summer-break-from-nursery-to-xii/
END:VEVENT
BEGIN:VEVENT
DTSTART;VALUE=DATE:20240617
DTEND;VALUE=DATE:20240618
DTSTAMP:20260423T225346
CREATED:20240508T044842Z
LAST-MODIFIED:20240508T044842Z
UID:6544-1718582400-1718668799@presidencyschoolajmer.com
SUMMARY:Holiday Id-ul-Juha
DESCRIPTION:Holiday Id-ul-Juha
URL:https://presidencyschoolajmer.com/event/holiday-id-ul-juha/
END:VEVENT
BEGIN:VEVENT
DTSTART;VALUE=DATE:20240609
DTEND;VALUE=DATE:20240610
DTSTAMP:20260423T225346
CREATED:20240402T055339Z
LAST-MODIFIED:20240508T044754Z
UID:6341-1717891200-1717977599@presidencyschoolajmer.com
SUMMARY:Holiday Maharana Pratap Jayanti
DESCRIPTION:Holiday Maharana Pratap Jayanti
URL:https://presidencyschoolajmer.com/event/maharana-pratap-jayanti/
END:VEVENT
BEGIN:VEVENT
DTSTART;TZID=UTC:20240525T000000
DTEND;TZID=UTC:20240630T000000
DTSTAMP:20260423T225346
CREATED:20240402T055223Z
LAST-MODIFIED:20240402T055223Z
UID:6339-1716595200-1719705600@presidencyschoolajmer.com
SUMMARY:Summer Break (IX to XII)
DESCRIPTION:Summer Break (IX to XII)
URL:https://presidencyschoolajmer.com/event/summer-break-ix-to-xii/
END:VEVENT
BEGIN:VEVENT
DTSTART;VALUE=DATE:20240524
DTEND;VALUE=DATE:20240525
DTSTAMP:20260423T225346
CREATED:20240402T115251Z
LAST-MODIFIED:20240402T115251Z
UID:6373-1716508800-1716595199@presidencyschoolajmer.com
SUMMARY:PTM (IX to XII)
DESCRIPTION:
URL:https://presidencyschoolajmer.com/event/ptm-ix-to-xii/
END:VEVENT
BEGIN:VEVENT
DTSTART;TZID=UTC:20240516T000000
DTEND;TZID=UTC:20240522T000000
DTSTAMP:20260423T225346
CREATED:20240402T055730Z
LAST-MODIFIED:20240402T055730Z
UID:6345-1715817600-1716336000@presidencyschoolajmer.com
SUMMARY:PT-1 (X & XII)
DESCRIPTION:PT-1 (X & XII)
URL:https://presidencyschoolajmer.com/event/pt-1-x-xii/
END:VEVENT
BEGIN:VEVENT
DTSTART;TZID=UTC:20240513T000000
DTEND;TZID=UTC:20240630T000000
DTSTAMP:20260423T225346
CREATED:20240402T055047Z
LAST-MODIFIED:20240402T055047Z
UID:6337-1715558400-1719705600@presidencyschoolajmer.com
SUMMARY:Summer Break (Nursery to 8th)
DESCRIPTION:Summer Break (Nursery to 8th)
URL:https://presidencyschoolajmer.com/event/summer-break-nursery-to-8th/
END:VEVENT
BEGIN:VEVENT
DTSTART;VALUE=DATE:20240511
DTEND;VALUE=DATE:20240512
DTSTAMP:20260423T225346
CREATED:20240402T115107Z
LAST-MODIFIED:20240402T115107Z
UID:6371-1715385600-1715471999@presidencyschoolajmer.com
SUMMARY:PTM (Nursery to VIII)
DESCRIPTION:
URL:https://presidencyschoolajmer.com/event/ptm-nursery-to-viii/
END:VEVENT
BEGIN:VEVENT
DTSTART;VALUE=DATE:20240510
DTEND;VALUE=DATE:20240511
DTSTAMP:20260423T225346
CREATED:20240402T054852Z
LAST-MODIFIED:20240508T040659Z
UID:6335-1715299200-1715385599@presidencyschoolajmer.com
SUMMARY:Holiday Parshuram Jayanti
DESCRIPTION:Holiday Parshuram Jayanti
URL:https://presidencyschoolajmer.com/event/holiday-parshuram-jayanti/
END:VEVENT
BEGIN:VEVENT
DTSTART;VALUE=DATE:20240421
DTEND;VALUE=DATE:20240422
DTSTAMP:20260423T225346
CREATED:20240402T054724Z
LAST-MODIFIED:20240402T054752Z
UID:6333-1713657600-1713743999@presidencyschoolajmer.com
SUMMARY:Holiday Mahavir Jayanti
DESCRIPTION:Holiday Mahavir Jayanti
URL:https://presidencyschoolajmer.com/event/holiday-mahavir-jayanti/
END:VEVENT
BEGIN:VEVENT
DTSTART;VALUE=DATE:20240417
DTEND;VALUE=DATE:20240418
DTSTAMP:20260423T225346
CREATED:20240402T060254Z
LAST-MODIFIED:20240402T060254Z
UID:6349-1713312000-1713398399@presidencyschoolajmer.com
SUMMARY:Holiday Ramanavami
DESCRIPTION:Holiday Ramanavami
URL:https://presidencyschoolajmer.com/event/holiday-ramanavami/
END:VEVENT
BEGIN:VEVENT
DTSTART;VALUE=DATE:20240414
DTEND;VALUE=DATE:20240415
DTSTAMP:20260423T225346
CREATED:20240402T054549Z
LAST-MODIFIED:20240402T054549Z
UID:6329-1713052800-1713139199@presidencyschoolajmer.com
SUMMARY:Holiday Ambedkar Jayanti
DESCRIPTION:Holiday Ambedkar Jayanti
URL:https://presidencyschoolajmer.com/event/holiday-ambedkar-jayanti/
END:VEVENT
BEGIN:VEVENT
DTSTART;VALUE=DATE:20240412
DTEND;VALUE=DATE:20240413
DTSTAMP:20260423T225346
CREATED:20240402T061039Z
LAST-MODIFIED:20240402T061039Z
UID:6353-1712880000-1712966399@presidencyschoolajmer.com
SUMMARY:Founder's Day Celebration
DESCRIPTION:Founder’s Day Celebration
URL:https://presidencyschoolajmer.com/event/founders-day-celebration/
END:VEVENT
BEGIN:VEVENT
DTSTART;VALUE=DATE:20240411
DTEND;VALUE=DATE:20240412
DTSTAMP:20260423T225346
CREATED:20240402T054316Z
LAST-MODIFIED:20240402T054316Z
UID:6327-1712793600-1712879999@presidencyschoolajmer.com
SUMMARY:Holiday Mahatma Jyotibha Phule Jayanti
DESCRIPTION:Holiday Mahatma Jyotibha Phule Jayanti
URL:https://presidencyschoolajmer.com/event/holiday-mahatma-jyotibha-phule-jayanti/
END:VEVENT
BEGIN:VEVENT
DTSTART;VALUE=DATE:20240410
DTEND;VALUE=DATE:20240411
DTSTAMP:20260423T225346
CREATED:20240402T054204Z
LAST-MODIFIED:20240402T062200Z
UID:6325-1712707200-1712793599@presidencyschoolajmer.com
SUMMARY:Holiday Id-ul-Fitar
DESCRIPTION:Holiday Id-ul-Fitar
URL:https://presidencyschoolajmer.com/event/holiday-id-ul-fitar/
END:VEVENT
BEGIN:VEVENT
DTSTART;VALUE=DATE:20240409
DTEND;VALUE=DATE:20240410
DTSTAMP:20260423T225346
CREATED:20240402T054000Z
LAST-MODIFIED:20240402T054058Z
UID:6323-1712620800-1712707199@presidencyschoolajmer.com
SUMMARY:Holiday Chetichand/Navratri Sathapana
DESCRIPTION:Holiday Chetichand/Navratri Sathapana
URL:https://presidencyschoolajmer.com/event/holiday-chetichand-navratri-sathapana/
END:VEVENT
BEGIN:VEVENT
DTSTART;VALUE=DATE:20240404
DTEND;VALUE=DATE:20240405
DTSTAMP:20260423T225346
CREATED:20231226T063953Z
LAST-MODIFIED:20231226T063953Z
UID:6245-1712188800-1712275199@presidencyschoolajmer.com
SUMMARY:SCHOOL REOPEN FOR NUR TO XII
DESCRIPTION:SCHOOL REOPEN FOR NUR TO XII
URL:https://presidencyschoolajmer.com/event/school-reopen-for-nur-to-xii/
END:VEVENT
BEGIN:VEVENT
DTSTART;VALUE=DATE:20240330
DTEND;VALUE=DATE:20240331
DTSTAMP:20260423T225346
CREATED:20231226T062136Z
LAST-MODIFIED:20231226T062136Z
UID:6239-1711756800-1711843199@presidencyschoolajmer.com
SUMMARY:Result Declaration Nur- XII
DESCRIPTION:Result Declaration Nur- XII
URL:https://presidencyschoolajmer.com/event/result-declaration-nur-xii/
END:VEVENT
BEGIN:VEVENT
DTSTART;VALUE=DATE:20240329
DTEND;VALUE=DATE:20240330
DTSTAMP:20260423T225346
CREATED:20231226T061856Z
LAST-MODIFIED:20231226T061856Z
UID:6235-1711670400-1711756799@presidencyschoolajmer.com
SUMMARY:holiday Good friday
DESCRIPTION:holiday Good friday
URL:https://presidencyschoolajmer.com/event/holiday-good-friday/
END:VEVENT
BEGIN:VEVENT
DTSTART;VALUE=DATE:20240324
DTEND;VALUE=DATE:20240326
DTSTAMP:20260423T225346
CREATED:20231226T061811Z
LAST-MODIFIED:20231226T061811Z
UID:6233-1711238400-1711411199@presidencyschoolajmer.com
SUMMARY:holiday Holi Break
DESCRIPTION:holiday Holi Break
URL:https://presidencyschoolajmer.com/event/holiday-holi-break/
END:VEVENT
BEGIN:VEVENT
DTSTART;VALUE=DATE:20240308
DTEND;VALUE=DATE:20240309
DTSTAMP:20260423T225346
CREATED:20231226T061706Z
LAST-MODIFIED:20231226T061706Z
UID:6231-1709856000-1709942399@presidencyschoolajmer.com
SUMMARY:Holiday Mahashivratri
DESCRIPTION:Holiday Mahashivratri
URL:https://presidencyschoolajmer.com/event/holiday-mahashivratri/
END:VEVENT
BEGIN:VEVENT
DTSTART;VALUE=DATE:20240302
DTEND;VALUE=DATE:20240319
DTSTAMP:20260423T225346
CREATED:20231226T061535Z
LAST-MODIFIED:20231226T061535Z
UID:6229-1709337600-1710806399@presidencyschoolajmer.com
SUMMARY:End Term Examination Classes Nur. to IX & XI
DESCRIPTION:End Term Examination Classes Nur. to IX & XI
URL:https://presidencyschoolajmer.com/event/end-term-examination-classes-nur-to-ix-xi/
END:VEVENT
BEGIN:VEVENT
DTSTART;VALUE=DATE:20240223
DTEND;VALUE=DATE:20240224
DTSTAMP:20260423T225346
CREATED:20231227T073135Z
LAST-MODIFIED:20231227T101629Z
UID:6263-1708646400-1708732799@presidencyschoolajmer.com
SUMMARY:Orals Examinations (NUR. to V)
DESCRIPTION:Orals Examinations (NUR. to V)
URL:https://presidencyschoolajmer.com/event/orals-nur-to-v-2/
END:VEVENT
BEGIN:VEVENT
DTSTART;VALUE=DATE:20240221
DTEND;VALUE=DATE:20240222
DTSTAMP:20260423T225346
CREATED:20240209T041357Z
LAST-MODIFIED:20240209T041357Z
UID:6302-1708473600-1708559999@presidencyschoolajmer.com
SUMMARY:I to V International Mother Tongue Day III to V Robotics VI to IX\, XI Tutorials/ Robotics
DESCRIPTION:I to V International Mother Tongue Day III to V Robotics VI to IX\, XI Tutorials/ Robotics
URL:https://presidencyschoolajmer.com/event/i-to-v-international-mother-tongue-day-iii-to-v-robotics-vi-to-ix-xi-tutorials-robotics/
END:VEVENT
BEGIN:VEVENT
DTSTART;VALUE=DATE:20240220
DTEND;VALUE=DATE:20240221
DTSTAMP:20260423T225346
CREATED:20240209T041320Z
LAST-MODIFIED:20240209T041320Z
UID:6300-1708387200-1708473599@presidencyschoolajmer.com
SUMMARY:Robotics Grade III to V & VI to IX\, XI Tutorials/ Robotics
DESCRIPTION:Robotics Grade III to V & VI to IX\, XI Tutorials/ Robotics
URL:https://presidencyschoolajmer.com/event/robotics-grade-iii-to-v-vi-to-ix-xi-tutorials-robotics/
END:VEVENT
BEGIN:VEVENT
DTSTART;VALUE=DATE:20240217
DTEND;VALUE=DATE:20240218
DTSTAMP:20260423T225346
CREATED:20240209T041519Z
LAST-MODIFIED:20240209T041519Z
UID:6304-1708128000-1708214399@presidencyschoolajmer.com
SUMMARY:Pre Primary Annual Function (All branches)
DESCRIPTION:Pre Primary Annual Function (All branches)
URL:https://presidencyschoolajmer.com/event/pre-primary-annual-function-all-branches/
END:VEVENT
BEGIN:VEVENT
DTSTART;VALUE=DATE:20240215
DTEND;VALUE=DATE:20240217
DTSTAMP:20260423T225346
CREATED:20231227T073629Z
LAST-MODIFIED:20231227T073629Z
UID:6267-1707955200-1708127999@presidencyschoolajmer.com
SUMMARY:Robotics (III to IX & XI)
DESCRIPTION:Robotics (III to IX & XI)
URL:https://presidencyschoolajmer.com/event/robotics-iii-to-ix-xi-2/
END:VEVENT
BEGIN:VEVENT
DTSTART;VALUE=DATE:20240214
DTEND;VALUE=DATE:20240215
DTSTAMP:20260423T225346
CREATED:20231227T072852Z
LAST-MODIFIED:20231227T072852Z
UID:6260-1707868800-1707955199@presidencyschoolajmer.com
SUMMARY:Puppet Show (NUR. to U|KG.)
DESCRIPTION:Puppet Show (NUR. to U|KG.)
URL:https://presidencyschoolajmer.com/event/puppet-show-nur-to-ukg/
END:VEVENT
END:VCALENDAR