BEGIN:VCALENDAR
VERSION:2.0
PRODID:-//Presidency School - ECPv6.15.13//NONSGML v1.0//EN
CALSCALE:GREGORIAN
METHOD:PUBLISH
X-WR-CALNAME:Presidency School
X-ORIGINAL-URL:https://presidencyschoolajmer.com
X-WR-CALDESC:Events for Presidency School
REFRESH-INTERVAL;VALUE=DURATION:PT1H
X-Robots-Tag:noindex
X-PUBLISHED-TTL:PT1H
BEGIN:VTIMEZONE
TZID:UTC
BEGIN:STANDARD
TZOFFSETFROM:+0000
TZOFFSETTO:+0000
TZNAME:UTC
DTSTART:20250101T000000
END:STANDARD
END:VTIMEZONE
BEGIN:VEVENT
DTSTART;VALUE=DATE:20260419
DTEND;VALUE=DATE:20260420
DTSTAMP:20260423T160404
CREATED:20260421T073944Z
LAST-MODIFIED:20260421T073944Z
UID:7189-1776556800-1776643199@presidencyschoolajmer.com
SUMMARY:Holiday Parshuram Jayanti
DESCRIPTION:
URL:https://presidencyschoolajmer.com/event/holiday-parshuram-jayanti-2/
END:VEVENT
END:VCALENDAR